BEGIN:VCALENDAR
VERSION:2.0
PRODID:-// - ECPv6.14.1//NONSGML v1.0//EN
CALSCALE:GREGORIAN
METHOD:PUBLISH
X-ORIGINAL-URL:https://tennomatkad.ee
X-WR-CALDESC:Events for 
REFRESH-INTERVAL;VALUE=DURATION:PT1H
X-Robots-Tag:noindex
X-PUBLISHED-TTL:PT1H
BEGIN:VTIMEZONE
TZID:Europe/Tallinn
BEGIN:DAYLIGHT
TZOFFSETFROM:+0200
TZOFFSETTO:+0300
TZNAME:EEST
DTSTART:20260329T010000
END:DAYLIGHT
BEGIN:STANDARD
TZOFFSETFROM:+0300
TZOFFSETTO:+0200
TZNAME:EET
DTSTART:20261025T010000
END:STANDARD
END:VTIMEZONE
BEGIN:VEVENT
DTSTART;TZID=Europe/Tallinn:20260509T063000
DTEND;TZID=Europe/Tallinn:20260514T233000
DTSTAMP:20260419T215027
CREATED:20260208T185307Z
LAST-MODIFIED:20260208T191222Z
UID:1127-1778308200-1778801400@tennomatkad.ee
SUMMARY:Avasta Soome loodus Herajärven kierrosel-Koli rahvuspargi südames!
DESCRIPTION:  \n2026 aastal pakume esimeseks uueks matarajaks Soomes Koli rahvuspargi Herajäve 62 kilomeetrise raja.Kui otsid matka\, mis ühendab hingematvad vaated\, puutumatu looduse ja kultuuripärandi? Herajärven kierros on just see! See legendaarne matkarada kulgeb ümber kauni Herajärve\, pakkudes üle 60 km vaheldusrikast maastikku: mäed\, järved\, metsad ja ajaloolised niidud.Läbime rada 4 päeva. Maastik on väga vaheldusrikas\, seega hoiame rahuliku tempot ja päevas läbim 10-17 km. Saame ööbida laavus ja ka telgis. Raskusaste on keskmine\, aktiivne inimene suudab vabalt läbida.Raja kohta rohkem informatsiooni leitav kahes lingis. Läbime lõuna ja põhja osa ühe matkana.https://www.luontoon.fi/…/herajarvenkierros-trail…https://www.luontoon.fi/…/herajarvenkierros-trail…Kindluse matkajatele annab Tenno Matkade reisikorraldaja tagatis ja kindlustus. OLULINE TEADA: MEIL ON 3 MATKAJA KOHTA 1 MATKAJUHT\, OLETE HOITUD.Ajakava:Aeg kokku 6 päeva.1. päev – Stardime hommikul Tallinna Sadamast et jõuda õhtuks Kolisse.2.-5. päev – Läbime rada. Tempo on rahulik\, oleme üks tervik ja toetame kõiki.6.päev – Sõidame tagasi koju\, külastame teele jäävat suveniiripoodi.Osalejate arv: 6 inimest. Osalejate vanus: 18+ aastat.Matka osalustasu sisaldab:– Transporti Eestist rajale ja tagasi.– Matkajuhi tasu.– Ööbimiskulu enne rajale minekut ja pärast raja lõpetamist.– Organisatoorsed kulud.Matka osalustasu ei sisalda:– Matkavarustust.– Toitlustus.– Tervise- ja reisikindlustust.(kohustuslik)Varustus: Matkale kaasavõetav soovitatav varustuse nimekiri jõuab Teieni\, kui olete registreerinud matkale. Oluline on kanda juba sisse kantud matkajalanõusid. Tungivalt soovituslik on kaasa võtta matkakepid. Vaja minevat varustust saame ka rentida osalejatele.Matka osalustasu on 849€\, mida on võimalik tasuda arvelduskontole mitmes osas.Registreerida saab ennast kirjutades meile osalussoovist info@tennomatkad.ee \nMTÜ Tenno Matkada/a EE661010220034632010Selgitusse: osaleja nimi – Koli kevad 2026Teie matkajuhid Andres Turro ja Andreas Sapas
URL:https://tennomatkad.ee/matkakalender/avasra-soome-loodus-herajarven-kierrosel-koli-rahvuspargi-sudames/
ATTACH;FMTTYPE=image/jpeg:https://tennomatkad.ee/wp-content/uploads/2026/02/6-1-scaled.jpg
ORGANIZER;CN="Andreas Sapas":MAILTO:info@tennomatkad.ee
END:VEVENT
BEGIN:VEVENT
DTSTART;TZID=Europe/Tallinn:20260524T063000
DTEND;TZID=Europe/Tallinn:20260529T233000
DTSTAMP:20260419T215027
CREATED:20260208T185805Z
LAST-MODIFIED:20260208T190607Z
UID:1133-1779604200-1780097400@tennomatkad.ee
SUMMARY:Avasta kevadine Karurada
DESCRIPTION:Tenno Matkad korraldab kevadel ja sügisel 2026 jalgsimatka Soome nr 1 matkarajal Karhunkierros! \nhttps://www.nationalparks.fi/karhun…/trailroutedescription\nKutsume Teid eksklusiivselt Soome kõige ägedamale matkarajale meeli turgutama – 82 kilomeetril näed imelist loodust\, tundras voolavad kärestikulised jõed ja mäenõlvadelt saab nautida lummavaid vaateid. \nRada saab alguse päris Lapimaa servast Hautajärvilt kulgedes läbi Oulunka rahvuspargi ja lõppedes Rukal. Kevadine Karurada lummab kärestikuliste mägijõgedega\, rohke vee ja kevadise värskusega. Rajal on inimesi vähe\, mis muudab kulgemise muinasjutuliseks.\nTegu on parajalt raske rajaga\, mis ootab head füüsilist vormi\, kuid arvestades meie aeglaselt kulgevat tempot\, siis on jõukohane enamikele. Kindel on see\, et rajal olles saab unustada argimured ja nautida kogu Karuraja ilu. See kõik saab toimuma kahe matkajuhi juhendamisel terve matka vältel mõnusalt väikses grupis. (kuni 6 matkajat)\nKindluse matkajatele annab Tenno Matkade reisikorraldaja tagatis ja kindlustus. \nOLULINE TEADA: MEIL ON 3 MATKAJA KOHTA 1 MATKAJUHT\, OLETE HOITUD.\nAjakava:Aeg kokku 6 päeva.1. päev – Stardime hommikul Tallinna Sadamast et jõuda õhtuks Rukale.2.-5. päev – Läbime rada. Tempo on rahulik\, oleme üks tervik ja toetame kõiki.6.päev – Sõidame tagasi koju\, külastame teele jäävat suveniiripoodi.\nOsalejate arv: 6 inimest.Osalejate vanus: 18+ aastat.Osaleja kogemus: Peaks olema heas füüsilises vormis. Soovime enne matka veenduda matkaja füüsilises vormis. Seega on soovitav kaasa teha enne Karurada vähemalt üks Tenno Matkade korraldatav matk. Hea füüsilise ettevalmistuse all peame silmas\, et on valmidus matkata päeva jooksul max 25km.\nMatka osalustasu sisaldab:– Transporti Eestist rajale ja tagasi.– Matkajuhi tasu.– Ööbimiskulu enne rajale minekut ja pärast raja lõpetamist.– Organisatoorsed kulud.\nMatka osalustasu ei sisalda:– Matkavarustust.– Toitlustus.– Tervise- ja reisikindlustust.(kohustuslik)\nVarustus: Matkale kaasavõetav soovitatav varustuse nimekiri jõuab Teieni\, kui olete registreerinud matkale. Oluline on kanda juba sisse kantud matkajalanõusid. Tungivalt soovituslik on kaasa võtta matkakepid. Vaja minevat varustust saame ka rentida osalejatele.\nMatka osalustasu on 669€\, mida on võimalik tasuda arvelduskontole mitmes osas.\nRegistreerida saab ennast kirjutades meile osalussoovist info@tennomatkad.eeMTÜ Tenno Matkada/a EE661010220034632010Selgitusse: osaleja nimi – Karurada kevad 2026\nTeie matkajuhid Andres Turro\, Andreas Sapas ja Marko Mitt
URL:https://tennomatkad.ee/matkakalender/avasta-kevadine-karurada/
ATTACH;FMTTYPE=image/jpeg:https://tennomatkad.ee/wp-content/uploads/2026/02/20250527_122928-scaled.jpg
ORGANIZER;CN="Andreas Sapas":MAILTO:info@tennomatkad.ee
END:VEVENT
BEGIN:VEVENT
DTSTART;TZID=Europe/Tallinn:20260906T063000
DTEND;TZID=Europe/Tallinn:20260912T233000
DTSTAMP:20260419T215027
CREATED:20260208T190527Z
LAST-MODIFIED:20260208T190527Z
UID:1141-1788676200-1789255800@tennomatkad.ee
SUMMARY:Võta aeg maha- 5 päeva põhjamaist rahu Kevo kanjonimatkarajal
DESCRIPTION:2026 aastal pakume matkasõpradele täiesti uue raja Soome põhjatipus! \nKui tunned\, et on aeg end argirutiinist välja lülitada ja laadida akusid tõeliselt inspireerivas looduses\, siis ootab sind 5-päevane matkarännak Lapimaa Kevo kanjoni matkarajal. See on ideaalne võimalus nautida liikumist\, värsket õhku ja põhjamaist vaikust omas tempos. \nKevo kanjon\, kristallselged jõed ja avarad tundramaastikud pakuvad elamust\, mis sobib eriti hästi neile\, kes hindavad rahulikku\, kuid sisukat seiklust. Pole vaja kiirustada — matk on planeeritud tasakaalus tempoga ning sobib ka neile\, kellel pole igapäevaselt seljakotimatkad harjumuseks. \n5 päeva põhjamaisest puhkusest:– lummavad vaated ja loodus\, mis kosutab nii keha kui meelt– mõõdukas\, jõukohane matkatempo– kvaliteetne seltskond ja toetavad matkajuhid– võimalus lahti lasta töö- ja kodumured ning keskenduda iseendale– puhas arktiline õhk\, värske vesi ja mõnusad laagripaigad\nKui oled valmis kinkima endale hetke rahu ja uut energiat\, siis liitu meie matkaga.Kevo ootab — just nüüd on õige aeg.\nKindluse matkajatele annab Tenno Matkade reisikorraldaja tagatis ja kindlustus.\nOLULINE TEADA: MEIL ON 3 MATKAJA KOHTA 1 MATKAJUHT\, OLETE HOITUD.\nAjakavaAeg kokku 7 päeva.1. päev – Stardime hommikul Tallinna Sadamast et jõuda öösel majutuskohta2.-6. päev – Läbime rada. Tempo on rahulik\, oleme üks tervik ja toetame kõiki. Päeva kilometraaž on lühike 10-15 km.7.päev – Sõidame tagasi koju.Osalejate arv: 6 inimest.Osalejate vanus: 18+ aastat.\nMatka osalustasu sisaldab:– Transporti Eestist rajale ja tagasi.– Matkajuhi tasu.– Ööbimiskulu enne rajale minekut ja pärast raja lõpetamist.– Organisatoorsed kulud.Matka osalustasu ei sisalda:– Matkavarustust.– Toitlustus.– Tervise- ja reisikindlustust.(kohustuslik)\nVarustus: Matkale kaasavõetav soovitatav varustuse nimekiri jõuab Teieni\, kui olete registreerinud matkale. Oluline on kanda juba sisse kantud matkajalanõusid. Tungivalt soovituslik on kaasa võtta matkakepid. Vaja minevat varustust saame ka rentida osalejatele.\nMatka osalustasu on 849 eurot\, mida on võimalik tasuda arvelduskontole mitmes osas.\nRegistreerida saab ennast kirjutades meile osalussoovist info@tennomatkad.eeMTÜ Tenno Matkada/a EE661010220034632010Selgitusse: osaleja nimi – Kevo 2026\nTeie matkajuhid Andreas Sapas ja Ott Väli (MTÜ Veteväli)
URL:https://tennomatkad.ee/matkakalender/vota-aeg-maha-5-paeva-pohjamaist-rahu-kevo-kanjonimatkarajal/
ATTACH;FMTTYPE=image/jpeg:https://tennomatkad.ee/wp-content/uploads/2026/02/Kevo-1-scaled.jpg
ORGANIZER;CN="Andreas Sapas":MAILTO:info@tennomatkad.ee
END:VEVENT
BEGIN:VEVENT
DTSTART;TZID=Europe/Tallinn:20260913T063000
DTEND;TZID=Europe/Tallinn:20260918T233000
DTSTAMP:20260419T215027
CREATED:20260208T191140Z
LAST-MODIFIED:20260208T191140Z
UID:1144-1789281000-1789774200@tennomatkad.ee
SUMMARY:Avasta sügisene Karurada
DESCRIPTION:Tenno Matkad korraldab kevadel ja sügisel 2026 jalgsimatka Soome nr 1 matkarajal Karhunkierros! https://www.nationalparks.fi/karhun…/trailroutedescriptionKutsume Teid eksklusiivselt Soome kõige ägedamale matkarajale meeli turgutama – 82 kilomeetril näed imelist loodust\, tundras voolavad kärestikulised jõed ja mäenõlvadelt saab nautida lummavaid vaateid. Rada saab alguse päris Lapimaa servast Hautajärvilt kulgedes läbi Oulunka rahvuspargi ja lõppedes Rukal. Sügisene Karurada on täis suurt värvide mängu\, palju marju ja imelisi vaateid.Tegu on parajalt raske rajaga\, mis ootab head füüsilist vormi\, kuid arvestades meie aeglaselt kulgevat tempot\, siis on jõukohane enamikele. Kindel on see\, et rajal olles saab unustada argimured ja nautida kogu Karuraja ilu. See kõik saab toimuma kahe matkajuhi juhendamisel terve matka vältel mõnusalt väikses grupis. (kuni 6 matkajat)Kindluse matkajatele annab Tenno Matkade reisikorraldaja tagatis ja kindlustus. OLULINE TEADA: MEIL ON 3 MATKAJA KOHTA 1 MATKAJUHT\, OLETE HOITUD.Ajakava:Aeg kokku 6 päeva.1. päev – Stardime hommikul Tallinna Sadamast et jõuda õhtuks Rukale.2.-5. päev – Läbime rada. Tempo on rahulik\, oleme üks tervik ja toetame kõiki.6.päev – Sõidame tagasi koju\, külastame teele jäävat suveniiripoodi.Osalejate arv: 6 inimest. Osalejate vanus: 18+ aastat.Osaleja kogemus: Peaks olema heas füüsilises vormis. Soovime enne matka veenduda matkaja füüsilises vormis. Seega on soovitav kaasa teha enne Karurada vähemalt üks Tenno Matkade korraldatav matk. Hea füüsilise ettevalmistuse all peame silmas\, et on valmidus matkata päeva jooksul max 25km.Matka osalustasu sisaldab:– Transporti Eestist rajale ja tagasi.– Matkajuhi tasu.– Ööbimiskulu enne rajale minekut ja pärast raja lõpetamist.– Organisatoorsed kulud.Matka osalustasu ei sisalda:– Matkavarustust.– Toitlustus.– Tervise- ja reisikindlustust.(kohustuslik)Varustus: Matkale kaasavõetav soovitatav varustuse nimekiri jõuab Teieni\, kui olete registreerinud matkale. Oluline on kanda juba sisse kantud matkajalanõusid. Tungivalt soovituslik on kaasa võtta matkakepid. Vaja minevat varustust saame ka rentida osalejatele.Matka osalustasu on 669€\, mida on võimalik tasuda arvelduskontole mitmes osas.Registreerida saab ennast kirjutades meile osalussoovist info@tennomatkad.eeMTÜ Tenno Matkada/a EE661010220034632010Selgitusse: osaleja nimi – Karurada sügis 2026Teie matkajuhid Andres Turro\, Andreas Sapas ja Marko Mitt
URL:https://tennomatkad.ee/matkakalender/avasta-sugisene-karurada/
ATTACH;FMTTYPE=image/jpeg:https://tennomatkad.ee/wp-content/uploads/2026/02/20230913_165427-1-scaled.jpg
ORGANIZER;CN="Andreas Sapas":MAILTO:info@tennomatkad.ee
END:VEVENT
BEGIN:VEVENT
DTSTART;TZID=Europe/Tallinn:20260927T063000
DTEND;TZID=Europe/Tallinn:20261002T233000
DTSTAMP:20260419T215027
CREATED:20260208T191433Z
LAST-MODIFIED:20260208T200450Z
UID:1149-1790490600-1790983800@tennomatkad.ee
SUMMARY:Sügisene Koli rahvuspargi avastus!
DESCRIPTION:Kui otsid matka\, mis ühendab hingematvad vaated\, puutumatu looduse ja kultuuripärandi? Herajärven kierros on just see! See legendaarne matkarada kulgeb ümber kauni Herajärve\, pakkudes üle 60 km vaheldusrikast maastikku: mäed\, järved\, metsad ja ajaloolised niidud.Läbime rada 4 päeva. Maastik on väga vaheldusrikas\, seega hoiame rahuliku tempot ja päevas läbim 10-17 km. Saame ööbida laavus ja ka telgis. Raskusaste on keskmine\, aktiivne inimene suudab vabalt läbida.Raja kohta rohkem informatsiooni leitav kahes lingis. Läbime lõuna ja põhja osa ühe matkana.https://www.luontoon.fi/…/herajarvenkierros-trail…https://www.luontoon.fi/…/herajarvenkierros-trail…Kindluse matkajatele annab Tenno Matkade reisikorraldaja tagatis ja kindlustus. OLULINE TEADA: MEIL ON 3 MATKAJA KOHTA 1 MATKAJUHT\, OLETE HOITUD.Ajakava:Aeg kokku 6 päeva.1. päev – Stardime hommikul Tallinna Sadamast et jõuda õhtuks Kolisse.2.-5. päev – Läbime rada. Tempo on rahulik\, oleme üks tervik ja toetame kõiki.6.päev – Sõidame tagasi koju\, külastame teele jäävat suveniiripoodi.Osalejate arv: 6 inimest. Osalejate vanus: 18+ aastat.Matka osalustasu sisaldab:– Transporti Eestist rajale ja tagasi.– Matkajuhi tasu.– Ööbimiskulu enne rajale minekut ja pärast raja lõpetamist.– Organisatoorsed kulud.Matka osalustasu ei sisalda:– Matkavarustust.– Toitlustus.– Tervise- ja reisikindlustust.(kohustuslik)Varustus: Matkale kaasavõetav soovitatav varustuse nimekiri jõuab Teieni\, kui olete registreerinud matkale. Oluline on kanda juba sisse kantud matkajalanõusid. Tungivalt soovituslik on kaasa võtta matkakepid. Vaja minevat varustust saame ka rentida osalejatele.Matka osalustasu on 849€\, mida on võimalik tasuda arvelduskontole mitmes osas.Registreerida saab ennast kirjutades meile osalussoovist info@tennomatkad.eeMTÜ Tenno Matkada/a EE661010220034632010Selgitusse: osaleja nimi – Koli sügis 2026Teie matkajuhid Andres Turro ja Andreas Sapas
URL:https://tennomatkad.ee/matkakalender/sugisene-koli-rahvuspargi-avastus/
ATTACH;FMTTYPE=image/jpeg:https://tennomatkad.ee/wp-content/uploads/2026/02/6-1-scaled.jpg
ORGANIZER;CN="Andreas Sapas":MAILTO:info@tennomatkad.ee
END:VEVENT
END:VCALENDAR